{
 "extent": {
  "ymin": 1311969.9867500002,
  "xmin": 2237781.8199999998,
  "ymax": 1446806.8867500001,
  "xmax": 2343747.0199999996,
  "spatialReference": {
   "latestWkid": 6447,
   "wkid": 103028
  }
 },
 "blockWidth": 256,
 "mosaicOperator": "First",
 "serviceSourceType": "esriImageServiceSourceTypeDataset",
 "hasMultidimensions": false,
 "maxImageWidth": 15000,
 "meanValues": [
  278.39332629962615
 ],
 "hasColormap": false,
 "compressionType": "LERC2D",
 "defaultCompressionQuality": 75,
 "maxValues": [
  513.38970947265625
 ],
 "hasHistograms": true,
 "datasetFormat": "Cache/LERC2D",
 "maxImageHeight": 4100,
 "sortField": "",
 "bandNames": [
  "Band_1"
 ],
 "spatialReference": {
  "latestWkid": 6447,
  "wkid": 103028
 },
 "fullExtent": {
  "ymin": 1311969.9867500002,
  "xmin": 2237781.8199999998,
  "ymax": 1446806.8867500001,
  "xmax": 2343747.0199999996,
  "spatialReference": {
   "latestWkid": 6447,
   "wkid": 103028
  }
 },
 "bandCount": 1,
 "rasterFunctionInfos": [
  {
   "help": "",
   "name": "Hillshade",
   "description": "Hillshade Raster"
  },
  {
   "help": "",
   "name": "Slope",
   "description": "DEM Slope"
  },
  {
   "help": "",
   "name": "Shaded Reflief",
   "description": "Shaded Reflief"
  },
  {
   "help": "",
   "name": "Contour",
   "description": "DEM Contour 10 ft"
  },
  {
   "help": "",
   "name": "None",
   "description": "Make a Raster or Raster Dataset into a Function Raster Dataset."
  }
 ],
 "supportsStatistics": false,
 "sortableFields": "",
 "minValues": [
  121.0587158203125
 ],
 "allowRasterFunction": true,
 "allowComputeTiePoints": false,
 "serviceDataType": "esriImageServiceDataTypeGeneric",
 "supportsAdvancedQueries": false,
 "currentVersion": 12.1,
 "sortValue": null,
 "objectIdField": "",
 "blockHeight": 256,
 "initialExtent": {
  "ymin": 1311969.9867500002,
  "xmin": 2237781.8199999998,
  "ymax": 1446806.8867500001,
  "xmax": 2343747.0199999996,
  "spatialReference": {
   "latestWkid": 6447,
   "wkid": 103028
  }
 },
 "pixelSizeX": 1.0999999999999972,
 "pixelSizeY": 1.0999999999999992,
 "defaultMosaicMethod": "Center",
 "name": "Imagery/DEM2024Meters",
 "allowedMosaicMethods": "",
 "fields": [],
 "allowAnalysis": true,
 "hasRasterAttributeTable": false,
 "useStandardizedQueries": false,
 "description": "",
 "pixelType": "F32",
 "meanPixelSize": 0.33528067056134064,
 "exportTilesAllowed": false,
 "editFieldsInfo": null,
 "rasterTypeInfos": [
  {
   "help": "",
   "name": "Raster Dataset",
   "description": "Supports all ArcGIS Raster Datasets"
  }
 ],
 "defaultResamplingMethod": "Bilinear",
 "itemAccess": false,
 "minScale": 0,
 "serviceProperties": "Center<\/MosaicMethod>First<\/MosaicOperator>true<\/SortAscending><\/LockImageID><\/TileOrderField>0<\/TileOrderBase>0.000000<\/AvgImageSpacingX>0.000000<\/AvgImageSpacingY>0.0<\/ViewPointX>0.0<\/ViewPointY>0.0<\/ViewPointDefShiftX>0.0<\/ViewPointDefShiftY>None<\/CompressionMethod>75<\/CompressionQuality>0.010000<\/CompressionTolerance>Bilinear<\/SamplingMethod><\/ImageServiceProperties><\/ImageServer>",
 "advancedQueryCapabilities": {
  "supportsStatistics": false,
  "supportsSqlExpression": false,
  "supportsOrderBy": false,
  "useStandardizedQueries": false,
  "supportsPagination": false,
  "supportsDistinct": false
 },
 "serviceItemId": "6fab5c6f988741be8591bdd36117326f",
 "capabilities": "Image,Metadata,Mensuration",
 "maxScale": 0,
 "stdvValues": [
  28.250795441363092
 ],
 "allowedFields": "",
 "minPixelSize": 0,
 "noDataValues": [
  3.3999999521443642E+38
 ],
 "sortAscending": true,
 "inspectionCapabilities": "",
 "maxPixelSize": 0,
 "noDataValue": 3.3999999521443642E+38,
 "allowedCompressions": "None,JPEG,LZ77,LERC",
 "uncompressedSize": 47232630596,
 "serviceDescription": "Imagery/DEM2024Meters",
 "allowCopy": true,
 "copyrightText": "",
 "mensurationCapabilities": "Basic",
 "ownershipBasedAccessControlForRasters": null
}
