{
 "currentVersion": 11.2,
 "serviceDescription": "Imagery/Imagery2017",
 "name": "Imagery/Imagery2017",
 "description": "",
 "extent": {
  "xmin": -9391763.283414882,
  "ymin": 3976383.1672633286,
  "xmax": -9352531.4829436,
  "ymax": 4025005.6712221093,
  "spatialReference": {
   "wkid": 102100,
   "latestWkid": 3857,
   "vcsWkid": 5773,
   "latestVcsWkid": 5773
  }
 },
 "initialExtent": {
  "xmin": -9391763.283414882,
  "ymin": 3976383.1672633286,
  "xmax": -9352531.4829436,
  "ymax": 4025005.6712221093,
  "spatialReference": {
   "wkid": 102100,
   "latestWkid": 3857,
   "vcsWkid": 5773,
   "latestVcsWkid": 5773
  }
 },
 "fullExtent": {
  "xmin": -9391763.283414882,
  "ymin": 3976383.1672633286,
  "xmax": -9352531.4829436,
  "ymax": 4025005.6712221093,
  "spatialReference": {
   "wkid": 102100,
   "latestWkid": 3857,
   "vcsWkid": 5773,
   "latestVcsWkid": 5773
  }
 },
 "sortableFields": "",
 "heightModelInfo": {
  "heightModel": "gravity_related_height",
  "vertCRS": "EGM96_Geoid",
  "heightUnit": "meter"
 },
 "bandCount": 3,
 "pixelType": "U8",
 "minValues": [
  0,
  0,
  0
 ],
 "maxValues": [
  255,
  255,
  255
 ],
 "meanValues": [
  127.87589792752665,
  114.39806090987226,
  94.13327099773956
 ],
 "stdvValues": [
  49.874681246744984,
  46.26674834411454,
  40.51839454635777
 ],
 "hasMultidimensions": false,
 "pixelSizeX": 0.10160020218439897,
 "pixelSizeY": 0.10160020218439797,
 "meanPixelSize": 0.10160020218439847,
 "datasetFormat": "Cache/LERC2D",
 "uncompressedSize": 554380148439,
 "blockWidth": 256,
 "blockHeight": 256,
 "compressionType": "LERC2D",
 "bandNames": [
  "Band_1",
  "Band_2",
  "Band_3"
 ],
 "allowCopy": true,
 "allowAnalysis": true,
 "itemAccess": false,
 "inspectionCapabilities": "",
 "minPixelSize": 0,
 "maxPixelSize": 0,
 "copyrightText": "",
 "serviceDataType": "esriImageServiceDataTypeRGB",
 "serviceSourceType": "esriImageServiceSourceTypeDataset",
 "objectIdField": "",
 "fields": [],
 "capabilities": "Mensuration,Image,Metadata",
 "defaultMosaicMethod": "Center",
 "allowedMosaicMethods": "",
 "sortField": "",
 "sortValue": null,
 "sortAscending": true,
 "mosaicOperator": "First",
 "defaultCompressionQuality": 75,
 "defaultResamplingMethod": "Bilinear",
 "maxImageHeight": 4100,
 "maxImageWidth": 15000,
 "allowRasterFunction": true,
 "rasterFunctionInfos": [
  {
   "name": "None",
   "description": "",
   "help": ""
  }
 ],
 "rasterTypeInfos": [
  {
   "name": "Raster Dataset",
   "description": "Supports all ArcGIS Raster Datasets",
   "help": ""
  }
 ],
 "mensurationCapabilities": "Basic",
 "hasHistograms": true,
 "hasColormap": false,
 "hasRasterAttributeTable": false,
 "minScale": 0,
 "maxScale": 0,
 "exportTilesAllowed": false,
 "supportsStatistics": false,
 "supportsAdvancedQueries": false,
 "editFieldsInfo": null,
 "ownershipBasedAccessControlForRasters": null,
 "allowComputeTiePoints": false,
 "useStandardizedQueries": true,
 "advancedQueryCapabilities": {
  "useStandardizedQueries": true,
  "supportsStatistics": false,
  "supportsOrderBy": false,
  "supportsDistinct": false,
  "supportsPagination": false
 },
 "spatialReference": {
  "wkid": 102100,
  "latestWkid": 3857,
  "vcsWkid": 5773,
  "latestVcsWkid": 5773
 },
 "resampling": false
}