View In:
ArcGIS JavaScript
ArcGIS Online Map Viewer
ArcGIS Earth
Service Description: Imagery/DEM2024Meters
Name: Imagery/DEM2024Meters
Description:
Single Fused Map Cache: false
Extent:
XMin: 2237781.82
YMin: 1311969.9867500002
XMax: 2343747.0199999996
YMax: 1446806.88675
Spatial Reference: 103028
(6447)
Initial Extent:
XMin: 2237781.82
YMin: 1311969.9867500002
XMax: 2343747.0199999996
YMax: 1446806.88675
Spatial Reference: 103028
(6447)
Full Extent:
XMin: 2237781.82
YMin: 1311969.9867500002
XMax: 2343747.0199999996
YMax: 1446806.88675
Spatial Reference: 103028
(6447)
Pixel Size X: 1.0999999999999972
Pixel Size Y: 1.0999999999999992
Band Count: 1
Pixel Type: F32
RasterFunction Infos: {"rasterFunctionInfos": [
{
"help": "",
"name": "Hillshade",
"description": "Hillshade Raster"
},
{
"help": "",
"name": "Slope",
"description": "DEM Slope"
},
{
"help": "",
"name": "Shaded Reflief",
"description": "Shaded Reflief"
},
{
"help": "",
"name": "Contour",
"description": "DEM Contour 10 ft"
},
{
"help": "",
"name": "None",
"description": "Make a Raster or Raster Dataset into a Function Raster Dataset."
}
]}
Mensuration Capabilities: Basic
Inspection Capabilities:
Has Histograms: true
Has Colormap: false
Has Multi Dimensions : false
Rendering Rule:
Min Scale: 0
Max Scale: 0
Copyright Text:
Service Data Type: esriImageServiceDataTypeGeneric
Min Values: 121.0587158203125
Max Values: 513.38970947265625
Mean Values: 278.39332629962615
Standard Deviation Values: 28.250795441363092
Object ID Field:
Fields:
None
Default Mosaic Method: Center
Allowed Mosaic Methods:
SortField:
SortValue: N/A
Mosaic Operator: First
Default Compression Quality: 75
Default Resampling Method: Bilinear
Max Record Count: null
Max Image Height: 4100
Max Image Width: 15000
Max Download Image Count: null
Max Mosaic Image Count: null
Allow Raster Function: true
Allow Copy: true
Allow Analysis: true
Allow Compute TiePoints: false
Supports Statistics: false
Supports Advanced Queries: false
Use StandardizedQueries: false
Raster Type Infos:
Name: Raster Dataset
Description: Supports all ArcGIS Raster Datasets
Help:
Has Raster Attribute Table: false
Edit Fields Info: N/A
Ownership Based AccessControl For Rasters: N/A
Child Resources:
Info
Histograms
Statistics
Key Properties
Legend
Raster Function Infos
Supported Operations:
Export Image
Identify
Measure
Compute Histograms
Compute Statistics Histograms
Get Samples
Compute Class Statistics
Query Boundary
Compute Pixel Location
Compute Angles
Validate
Project